BEGIN:VCALENDAR
VERSION:2.0
PRODID:-//ECLIPSE Digital - ECPv6.15.20//NONSGML v1.0//EN
CALSCALE:GREGORIAN
METHOD:PUBLISH
X-WR-CALNAME:ECLIPSE Digital
X-ORIGINAL-URL:https://eclipse-digital.eu
X-WR-CALDESC:Events for ECLIPSE Digital
REFRESH-INTERVAL;VALUE=DURATION:PT1H
X-Robots-Tag:noindex
X-PUBLISHED-TTL:PT1H
BEGIN:VTIMEZONE
TZID:Europe/Madrid
BEGIN:DAYLIGHT
TZOFFSETFROM:+0100
TZOFFSETTO:+0200
TZNAME:CEST
DTSTART:20250330T010000
END:DAYLIGHT
BEGIN:STANDARD
TZOFFSETFROM:+0200
TZOFFSETTO:+0100
TZNAME:CET
DTSTART:20251026T010000
END:STANDARD
BEGIN:DAYLIGHT
TZOFFSETFROM:+0100
TZOFFSETTO:+0200
TZNAME:CEST
DTSTART:20260329T010000
END:DAYLIGHT
BEGIN:STANDARD
TZOFFSETFROM:+0200
TZOFFSETTO:+0100
TZNAME:CET
DTSTART:20261025T010000
END:STANDARD
BEGIN:DAYLIGHT
TZOFFSETFROM:+0100
TZOFFSETTO:+0200
TZNAME:CEST
DTSTART:20270328T010000
END:DAYLIGHT
BEGIN:STANDARD
TZOFFSETFROM:+0200
TZOFFSETTO:+0100
TZNAME:CET
DTSTART:20271031T010000
END:STANDARD
END:VTIMEZONE
BEGIN:VEVENT
DTSTART;VALUE=DATE:20260521
DTEND;VALUE=DATE:20260523
DTSTAMP:20260422T123301
CREATED:20260414T150159Z
LAST-MODIFIED:20260414T150159Z
UID:6078-1779321600-1779494399@eclipse-digital.eu
SUMMARY:XI ConferenceMeasurements and Diagnostics in Power Grids
DESCRIPTION:The conference is a continuation of cyclical events devoted to this topic organized by PTPiREE. The main objective of the conference is to broaden the knowledge and exchange of experience of Distribution and Transmission Companies with scientific centers in the field of\, m.in\, issues related to measurements in power grids\, electromagnetic compatibility\, including the use of new measurement and diagnostic technologies.
URL:https://eclipse-digital.eu/event/xi-conferencemeasurements-and-diagnostics-in-power-grids/
LOCATION:Dźwirzyno\, Poland\, Senator Hotel\, 35 Wyzwolenia Street\, Dźwirzyno\, Poland
CATEGORIES:Attended
END:VEVENT
BEGIN:VEVENT
DTSTART;VALUE=DATE:20260525
DTEND;VALUE=DATE:20260530
DTSTAMP:20260422T123301
CREATED:20260414T145328Z
LAST-MODIFIED:20260414T145636Z
UID:6073-1779667200-1780099199@eclipse-digital.eu
SUMMARY:MIPRO Conference 2026
DESCRIPTION:The international 49th ICT and Electronics Convention MIPRO 2026 invites authors to submit papers and proposals addressing information and communication technologies\, electronics\, smart industry\, renewable energy sources\, ecology\, and emerging high technologies.\nMIPRO is a long-standing international convention and a major regional hub for knowledge exchange and cooperation\, organized in collaboration with ICT associations from Croatia and the European Union. The convention brings together researchers\, educators\, industry professionals\, and public-sector representatives to promote innovation\, technology transfer\, and interdisciplinary collaboration.
URL:https://eclipse-digital.eu/event/mipro-conference-2026/
LOCATION:Opatija\, Croatia\, Grand hotel Adriatic\, Opatija\, Croatia (Local Name: Hrvatska)
CATEGORIES:Attended
END:VEVENT
END:VCALENDAR